BEGIN:VCALENDAR
VERSION:2.0
PRODID:-//Tukios.com/
BEGIN:VEVENT
UID:fa3c76f3-58d6-45ef-99f2-026dc7564159@www.hochfuneralhome.com
DTSTAMP:20260421T172813Z
DTSTART:20260522T160000Z
DTEND:20260522T170000Z
SUMMARY:Graveside Memorial Service
DESCRIPTION:
URL:https://www.hochfuneralhome.com/obituaries/lanita-maurer
LOCATION:    Bassett NE 68714
GEO:42.5858337;-99.5378941
END:VEVENT
END:VCALENDAR